BEGIN:VCALENDAR
VERSION:2.0
PRODID:-//Wigram Primary - Te Piki Kāhu - ECPv4.6.12//NONSGML v1.0//EN
CALSCALE:GREGORIAN
METHOD:PUBLISH
X-WR-CALNAME:Wigram Primary - Te Piki Kāhu
X-ORIGINAL-URL:http://wigramprimary.school.nz
X-WR-CALDESC:Events for Wigram Primary - Te Piki Kāhu
BEGIN:VEVENT
DTSTART;VALUE=DATE:20200206
DTEND;VALUE=DATE:20200207
DTSTAMP:20210121T021351
CREATED:20200116T005620Z
LAST-MODIFIED:20200116T005620Z
UID:3923-1580947200-1581033599@wigramprimary.school.nz
SUMMARY:Waitangi Day Holiday 6 Feb - School Closed
DESCRIPTION:
URL:http://wigramprimary.school.nz/event/waitangi-day-holiday-6-feb/
END:VEVENT
END:VCALENDAR