BEGIN:VCALENDAR
VERSION:2.0
PRODID:-//Wigram Primary - Te Piki Kāhu - ECPv4.6.12//NONSGML v1.0//EN
CALSCALE:GREGORIAN
METHOD:PUBLISH
X-WR-CALNAME:Wigram Primary - Te Piki Kāhu
X-ORIGINAL-URL:http://wigramprimary.school.nz
X-WR-CALDESC:Events for Wigram Primary - Te Piki Kāhu
BEGIN:VEVENT
DTSTART;TZID=UTC+0:20200324T080000
DTEND;TZID=UTC+0:20200424T170000
DTSTAMP:20210121T021401
CREATED:20200330T011518Z
LAST-MODIFIED:20200330T011518Z
UID:3994-1585036800-1587747600@wigramprimary.school.nz
SUMMARY:School Break - Covid 19 and Holidays
DESCRIPTION:
URL:http://wigramprimary.school.nz/event/school-break-covid-19-holidays/
END:VEVENT
END:VCALENDAR